BEGIN:VCALENDAR
VERSION:2.0
PRODID:-//Tukios.com/
BEGIN:VEVENT
UID:93aa0085-c1b9-4e50-aeb9-b2474ae59d84@www.saintpeterfuneralhome.com
DTSTAMP:20260421T003933Z
DTSTART:20260423T200000Z
DTEND:20260423T210000Z
SUMMARY:Burial
DESCRIPTION:
URL:https://www.saintpeterfuneralhome.com/obituaries/danny-wiedow
LOCATION:Minneopa Cemetery 21075 County Road 117  Mankato MN 56001
GEO:44.1509419;-94.0883935
END:VEVENT
END:VCALENDAR